Workbook
Name __xlfn_IFERROR: #REF!
Name __xlfn_SUMIFS: #REF!
Name ANOS: '[1]DADOS (OCULTAR)'!$AO$3:$AO$13
Name ANOSCGUNIDOSS: '[1]DADOS (OCULTAR)'!$AC$4:$AC$55
Name CATDESP6: '[1]DADOS (OCULTAR)'!$B$3:$B$175
Name CLASSIF: #REF!
Name COMPET: '[1]DADOS (OCULTAR)'!$D$4:$D$147
Name DIVISÃO: '[1]DADOS (OCULTAR)'!$V$3:$V$4
Name EVENTO: [1]MEM.CÁLC.FP.!$B$6:$B$7
Name Excel_BuiltIn__FilterDatabase: 'CONTÁBIL- FINANCEIRA '!$B$31:$G$283
Name Excel_BuiltIn_Print_Area_8: #REF!
Name Excel_BuiltIn_Print_Area_8: #REF!
Name Excel_BuiltIn_Print_Area_9: #REF!
Name Excel_BuiltIn_Print_Area_9: #REF!
Name listaunidades: '[1]DADOS (OCULTAR)'!$Q$3:$Q$120
Name MESES: '[1]DADOS (OCULTAR)'!$AA$4:$AA$15
Name NÃO: 'CONTÁBIL- FINANCEIRA '!$G$6
Name PIS: '[1]DADOS (OCULTAR)'!$BO$2:$BO$3
Name Print_Area_0: 'CONTÁBIL- FINANCEIRA '!$C$1:$G$300
Name Print_Area_0_0: 'CONTÁBIL- FINANCEIRA '!$C$1:$G$300
Name Print_Area_0_0_0: 'CONTÁBIL- FINANCEIRA '!$C$1:$G$300
Name Print_Area_0_0_0_0: 'CONTÁBIL- FINANCEIRA '!$C$1:$G$300
Name Print_Area_0_0_0_0_0: 'CONTÁBIL- FINANCEIRA '!$C$1:$G$300
Name Receita_Verificador_Bancário: '[1]DADOS (OCULTAR)'!$AE$3:$AE$4
Name RELDESPPG: '[1]DADOS (OCULTAR)'!$AL$3:$AL$203
Name UNIDADES: '[1]DADOS (OCULTAR)'!$Q$3:$Q$120

Sheet CONTÁBIL- FINANCEIRA 
D1: DIRETORIA EXECUTIVA DE REGULAÇÃO MÉDIA E ALTA COMPLEXIDADE | F1: PCF - Maio/2022 - V1
D2: DIRETORIA EXECUTIVA DE PLANEJAMENTO ORÇAMENTO E GESTÃO DA INFORMAÇÃO | F2: MÊS/ANO COMPETÊNCIA | G2: ANO CONTRATO
D3: SECRETARIA DE ADMINISTRAÇÃO E FINANÇAS
D4: DEMONSTRATIVO DE CONTRATOS SERVIÇOS TERCEIRIZADOS | F4: 44682 | G4: 1 | BB4: Vínculos
D5: DEMONSTRATIVO DE RESULTADO CONTÁBIL - FINANCEIRO MENSAL | BB5: Pessoal
C6: UNIDADE (acessar lista suspensa) | E6: RESPONSÁVEL PELA UNIDADE | F6: ISENTO PIS: | H6: =IF(AND(G6="SIM",[1]MEM.CÁLC.FP.!C29<>0),"Verificar Informações do PIS - Aba Mem.Cálc.FP",IF(AND(G6="NÃO",[1]MEM.CÁLC.FP.!C29=0),"Verificar Informações do PIS - Aba Mem.Cálc.FP",IF(AND(G6="NÃO",[1]MEM.CÁLC.FP.!C29>0),"OK","")))
C7: HECPI - COVID | E7: ROBERTA MONTEIRO | F7: CNPJ | G7: =IFERROR(VLOOKUP($C$7,'[1]DADOS (OCULTAR)'!$Q$3:$S$133,3,0),"") -> 9039744000194
C8: =IFERROR(VLOOKUP($C$7,'[1]DADOS (OCULTAR)'!$Q$3:$S$120,2,0),"") -> Fundação Gestão Hospitalar Martiniano Fernandes - FGH | F8: OSS - GESTORA
C9: DESCRIÇÃO | F9: Data Início CG | G9: =IFERROR(VLOOKUP(C7,'[1]DADOS (OCULTAR)'!$Q$3:$T$133,4,0),"") -> 44256
F10: Nº do CG | G10: =IFERROR(VLOOKUP(C7,'[1]DADOS (OCULTAR)'!$Q$3:$U$120,5,0),"") -> 4801.1.71.2020
C11: RECEITAS OPERACIONAIS | F11: VALOR
C12: Repasse Contrato de Gestão (Fixo+Variável) | H12: Informação retirada do CG ou TA.
C13: Repasse Contrato de Gestão (Odontologia) | F13: 0 | H13: Informação retirada do CG ou TA.
C14: Repasse Contrato de Gestão ENSINO E PESQUISA | F14: 0 | H14: Informação retirada do CG ou TA.
C15: Plano de Investimento Autorizado pela SESAU | F15: 0
C16: Repasse Programas Especiais | F16: 0
C17: Receita - Manutenção da Administração Central da OSS | F17: =IF(C6="Prestação_de_Contas_OSS",'[1]Mem. Cálc. Núcleo'!F13,0) -> 0 | H17: Preenchimento Automático - Exclusivo PC - OSS
C18: ( - ) Desconto | F18: 0
C19: TOTAL DE REPASSES | F19: =SUM(F12:G17)-F18 -> 0
C20: Rendimento de Aplicações Financeiras | F20: =4197.07+59298.24 -> 63495.31 | H20: Digitar
C21: Rendimento de Aplicações Financeiras do Recurso de Plano de Investimento Autorizado pela SESAU | F21: 9558.78 | H21: Digitar
C22: Reembolso de Despesas | F22: 0 | H22: Digitar
C23: Obtenção de Recursos Externos a SESAU | F23: 0 | H23: Digitar
C24: Demais Receitas (Convênios) | F24: 0 | H24: Digitar
C25: Outras Receitas | F25: 0 | H25: Digitar
C26: Receita Recebida por Transferência de Saldo de Provisão (Admissão de Funcionário por Transferência) | H26: Digitar
C27: TOTAL OUTRAS RECEITAS | F27: =SUM(F20:G26) -> 73054.09
C28: TOTAL DE REPASSES/RECEITAS | F28: =F27+F19 -> 73054.09
C30: DESPESAS OPERACIONAIS | F30: VALOR
C31: 1. Pessoal | F31: =F32+SUM(F38:F41)+F55 -> 0
C32: 1.1. Ordenados (Não inclui férias, 13º e Rescisão) | F32: =F33+F36+F37 -> 0
C33: 1.1.1. Assistência Médica | F33: =F34+F35 -> 0
A34: 1 - Médico | B34: 1.1 | C34: 1.1.1.1. Médicos | F34: ='[1]TCE - ANEXO II - Preencher'!Y1 -> 0 | H34: Informação retirada do Anexo II - Preencher
A35: 2 - Outros Profissionais da Saúde | B35: 1.1 | C35: 1.1.1.2. Outros profissionais de saúde | F35: ='[1]TCE - ANEXO II - Preencher'!Y2 -> 0 | H35: Informação retirada do Anexo II - Preencher
A36: 4 - Assistência Odontológica | B36: 1.1 | C36: 1.1.2. Assistência Odontológica | F36: ='[1]TCE - ANEXO II - Preencher'!Y4 -> 0 | H36: Informação retirada do Anexo II - Preencher
A37: 3 - Administrativo | B37: 1.1 | C37: 1.1.3. Administrativo | F37: ='[1]TCE - ANEXO II - Preencher'!Y3 -> 0 | H37: Informação retirada do Anexo II - Preencher
A38: 2 - FGTS | B38: 1.2 | C38: 1.2. FGTS | F38: =[1]MEM.CÁLC.FP.!$D$97 -> 0 | H38: Informação retirada da MEM.CÁLC.FP.
A39: 1 - PIS | B39: 1.2 | C39: 1.3. PIS | F39: =IF(G6="SIM","",[1]MEM.CÁLC.FP.!$D$98) -> 0 | H39: Informação retirada da MEM.CÁLC.FP.
A40: 1.99 - Outras Depesas com Pessoal | B40: 1.99 | C40: 1.4. Benefícios | F40: =[1]MEM.CÁLC.FP.!$C$101 -> 0 | H40: Informação retirada da MEM.CÁLC.FP.
C41: 1.5. Despesas com Provisões (Férias + 13º + Rescisões) | F41: =F42+F46+F50 -> 0
...
